BEGIN:VCALENDAR
VERSION:2.0
PRODID:-//SAN FRANCISCO COLLEGE - ECPv4.9.12//NONSGML v1.0//EN
CALSCALE:GREGORIAN
METHOD:PUBLISH
X-WR-CALNAME:SAN FRANCISCO COLLEGE
X-ORIGINAL-URL:https://sanfranciscocollege.com.ar
X-WR-CALDESC:Eventos para SAN FRANCISCO COLLEGE
BEGIN:VTIMEZONE
TZID:UTC
BEGIN:STANDARD
TZOFFSETFROM:+0000
TZOFFSETTO:+0000
TZNAME:UTC
DTSTART:20170101T000000
END:STANDARD
END:VTIMEZONE
BEGIN:VEVENT
DTSTART;TZID=UTC:20170731T080000
DTEND;TZID=UTC:20170731T170000
DTSTAMP:20260425T024745
CREATED:20170707T185443Z
LAST-MODIFIED:20170707T185443Z
UID:3792-1501488000-1501520400@sanfranciscocollege.com.ar
SUMMARY:Inicio de clases después de las vacaciones
DESCRIPTION:
URL:https://sanfranciscocollege.com.ar/event/inicio-de-clases-despues-de-las-vacaciones/
CATEGORIES:General
END:VEVENT
END:VCALENDAR