BEGIN:VCALENDAR
VERSION:2.0
PRODID:-//SAN FRANCISCO COLLEGE - ECPv4.9.12//NONSGML v1.0//EN
CALSCALE:GREGORIAN
METHOD:PUBLISH
X-WR-CALNAME:SAN FRANCISCO COLLEGE
X-ORIGINAL-URL:https://sanfranciscocollege.com.ar
X-WR-CALDESC:Eventos para SAN FRANCISCO COLLEGE
BEGIN:VTIMEZONE
TZID:UTC
BEGIN:STANDARD
TZOFFSETFROM:+0000
TZOFFSETTO:+0000
TZNAME:UTC
DTSTART:20170101T000000
END:STANDARD
END:VTIMEZONE
BEGIN:VEVENT
DTSTART;TZID=UTC:20170413T080000
DTEND;TZID=UTC:20170414T170000
DTSTAMP:20260424T084805
CREATED:20170322T132319Z
LAST-MODIFIED:20170322T132319Z
UID:3640-1492070400-1492189200@sanfranciscocollege.com.ar
SUMMARY:Semana Santa
DESCRIPTION:
URL:https://sanfranciscocollege.com.ar/event/semana-santa/
END:VEVENT
END:VCALENDAR