BEGIN:VCALENDAR
VERSION:2.0
PRODID:-//SAN FRANCISCO COLLEGE - ECPv4.9.12//NONSGML v1.0//EN
CALSCALE:GREGORIAN
METHOD:PUBLISH
X-WR-CALNAME:SAN FRANCISCO COLLEGE
X-ORIGINAL-URL:https://sanfranciscocollege.com.ar
X-WR-CALDESC:Eventos para SAN FRANCISCO COLLEGE
BEGIN:VTIMEZONE
TZID:UTC
BEGIN:STANDARD
TZOFFSETFROM:+0000
TZOFFSETTO:+0000
TZNAME:UTC
DTSTART:20160101T000000
END:STANDARD
END:VTIMEZONE
BEGIN:VEVENT
DTSTART;TZID=UTC:20161130T080000
DTEND;TZID=UTC:20161130T170000
DTSTAMP:20260419T193006
CREATED:20160822T133513Z
LAST-MODIFIED:20161031T174639Z
UID:3459-1480492800-1480525200@sanfranciscocollege.com.ar
SUMMARY:PAE (4° and 7° forms) - 14.00 hs
DESCRIPTION:
URL:https://sanfranciscocollege.com.ar/event/pae-trinity/
END:VEVENT
END:VCALENDAR