BEGIN:VCALENDAR
VERSION:2.0
PRODID:-//SAN FRANCISCO COLLEGE - ECPv4.9.12//NONSGML v1.0//EN
CALSCALE:GREGORIAN
METHOD:PUBLISH
X-WR-CALNAME:SAN FRANCISCO COLLEGE
X-ORIGINAL-URL:https://sanfranciscocollege.com.ar
X-WR-CALDESC:Eventos para SAN FRANCISCO COLLEGE
BEGIN:VTIMEZONE
TZID:UTC
BEGIN:STANDARD
TZOFFSETFROM:+0000
TZOFFSETTO:+0000
TZNAME:UTC
DTSTART:20170101T000000
END:STANDARD
END:VTIMEZONE
BEGIN:VEVENT
DTSTART;TZID=UTC:20171130T080000
DTEND;TZID=UTC:20171130T170000
DTSTAMP:20260424T155614
CREATED:20171020T164740Z
LAST-MODIFIED:20171020T164741Z
UID:3867-1512028800-1512061200@sanfranciscocollege.com.ar
SUMMARY:PAE Exams
DESCRIPTION:4th and 7th forms \n
URL:https://sanfranciscocollege.com.ar/event/pae-exams/
CATEGORIES:Exams
END:VEVENT
END:VCALENDAR