BEGIN:VCALENDAR
VERSION:2.0
PRODID:-//SAN FRANCISCO COLLEGE - ECPv4.9.12//NONSGML v1.0//EN
CALSCALE:GREGORIAN
METHOD:PUBLISH
X-WR-CALNAME:SAN FRANCISCO COLLEGE
X-ORIGINAL-URL:https://sanfranciscocollege.com.ar
X-WR-CALDESC:Eventos para SAN FRANCISCO COLLEGE
BEGIN:VTIMEZONE
TZID:UTC
BEGIN:STANDARD
TZOFFSETFROM:+0000
TZOFFSETTO:+0000
TZNAME:UTC
DTSTART:20180101T000000
END:STANDARD
END:VTIMEZONE
BEGIN:VEVENT
DTSTART;TZID=UTC:20181203T080000
DTEND;TZID=UTC:20181203T170000
DTSTAMP:20260424T202116
CREATED:20181024T124450Z
LAST-MODIFIED:20181024T124450Z
UID:3969-1543824000-1543856400@sanfranciscocollege.com.ar
SUMMARY:PAE Exams - 4th and 7th Forms
DESCRIPTION:Exámenes PAE para 4to y 7mo grado a las 14 hs. \n
URL:https://sanfranciscocollege.com.ar/event/pae-exams-4th-and-7th-forms/
CATEGORIES:Exams
END:VEVENT
END:VCALENDAR