BEGIN:VCALENDAR
VERSION:2.0
PRODID:-//SAN FRANCISCO COLLEGE - ECPv4.9.12//NONSGML v1.0//EN
CALSCALE:GREGORIAN
METHOD:PUBLISH
X-WR-CALNAME:SAN FRANCISCO COLLEGE
X-ORIGINAL-URL:https://sanfranciscocollege.com.ar
X-WR-CALDESC:Eventos para SAN FRANCISCO COLLEGE
BEGIN:VTIMEZONE
TZID:UTC
BEGIN:STANDARD
TZOFFSETFROM:+0000
TZOFFSETTO:+0000
TZNAME:UTC
DTSTART:20160101T000000
END:STANDARD
END:VTIMEZONE
BEGIN:VEVENT
DTSTART;TZID=UTC:20160905T080000
DTEND;TZID=UTC:20160905T170000
DTSTAMP:20260419T233745
CREATED:20160822T125702Z
LAST-MODIFIED:20160822T125909Z
UID:3430-1473062400-1473094800@sanfranciscocollege.com.ar
SUMMARY:Open class: Marian 2nd Morning / Gabriela 2rd  Afternoon
DESCRIPTION:
URL:https://sanfranciscocollege.com.ar/event/open-class-marian-2nd-morning-gabriela-2rd-afternoon/
END:VEVENT
END:VCALENDAR