BEGIN:VCALENDAR
VERSION:2.0
PRODID:-//SAN FRANCISCO COLLEGE - ECPv4.9.12//NONSGML v1.0//EN
CALSCALE:GREGORIAN
METHOD:PUBLISH
X-WR-CALNAME:SAN FRANCISCO COLLEGE
X-ORIGINAL-URL:https://sanfranciscocollege.com.ar
X-WR-CALDESC:Eventos para SAN FRANCISCO COLLEGE
BEGIN:VTIMEZONE
TZID:UTC
BEGIN:STANDARD
TZOFFSETFROM:+0000
TZOFFSETTO:+0000
TZNAME:UTC
DTSTART:20170101T000000
END:STANDARD
END:VTIMEZONE
BEGIN:VEVENT
DTSTART;TZID=UTC:20170707T080000
DTEND;TZID=UTC:20170707T170000
DTSTAMP:20260424T145449
CREATED:20170707T185318Z
LAST-MODIFIED:20170707T185318Z
UID:3790-1499414400-1499446800@sanfranciscocollege.com.ar
SUMMARY:Mid term exams
DESCRIPTION:
URL:https://sanfranciscocollege.com.ar/event/mid-term-exams/
END:VEVENT
END:VCALENDAR