BEGIN:VCALENDAR
VERSION:2.0
PRODID:-//SAN FRANCISCO COLLEGE - ECPv4.9.12//NONSGML v1.0//EN
CALSCALE:GREGORIAN
METHOD:PUBLISH
X-WR-CALNAME:SAN FRANCISCO COLLEGE
X-ORIGINAL-URL:https://sanfranciscocollege.com.ar
X-WR-CALDESC:Eventos para SAN FRANCISCO COLLEGE
BEGIN:VTIMEZONE
TZID:UTC
BEGIN:STANDARD
TZOFFSETFROM:+0000
TZOFFSETTO:+0000
TZNAME:UTC
DTSTART:20180101T000000
END:STANDARD
END:VTIMEZONE
BEGIN:VEVENT
DTSTART;TZID=UTC:20181123T080000
DTEND;TZID=UTC:20181126T170000
DTSTAMP:20260424T153923
CREATED:20181024T124242Z
LAST-MODIFIED:20181024T124242Z
UID:3963-1542960000-1543251600@sanfranciscocollege.com.ar
SUMMARY:Final Exams
DESCRIPTION:Exámenes orales y Comprensión para 1º\, 2º\, 3º\, 5º y los alumnos de 6to que no rinden el Trinity. Secundaria: 1er\, 2do y 4to año \n
URL:https://sanfranciscocollege.com.ar/event/final-exams-5/
CATEGORIES:Exams
END:VEVENT
END:VCALENDAR