BEGIN:VCALENDAR
VERSION:2.0
PRODID:-//SAN FRANCISCO COLLEGE - ECPv4.9.12//NONSGML v1.0//EN
CALSCALE:GREGORIAN
METHOD:PUBLISH
X-WR-CALNAME:SAN FRANCISCO COLLEGE
X-ORIGINAL-URL:https://sanfranciscocollege.com.ar
X-WR-CALDESC:Eventos para SAN FRANCISCO COLLEGE
BEGIN:VTIMEZONE
TZID:UTC
BEGIN:STANDARD
TZOFFSETFROM:+0000
TZOFFSETTO:+0000
TZNAME:UTC
DTSTART:20160101T000000
END:STANDARD
END:VTIMEZONE
BEGIN:VEVENT
DTSTART;TZID=UTC:20161129T080000
DTEND;TZID=UTC:20161129T170000
DTSTAMP:20260419T213552
CREATED:20160822T134038Z
LAST-MODIFIED:20160822T134038Z
UID:3461-1480406400-1480438800@sanfranciscocollege.com.ar
SUMMARY:FCE Exam
DESCRIPTION:
URL:https://sanfranciscocollege.com.ar/event/fce-exam/
END:VEVENT
END:VCALENDAR