BEGIN:VCALENDAR
VERSION:2.0
PRODID:-//SAN FRANCISCO COLLEGE - ECPv4.9.12//NONSGML v1.0//EN
CALSCALE:GREGORIAN
METHOD:PUBLISH
X-WR-CALNAME:SAN FRANCISCO COLLEGE
X-ORIGINAL-URL:https://sanfranciscocollege.com.ar
X-WR-CALDESC:Eventos para SAN FRANCISCO COLLEGE
BEGIN:VTIMEZONE
TZID:UTC
BEGIN:STANDARD
TZOFFSETFROM:+0000
TZOFFSETTO:+0000
TZNAME:UTC
DTSTART:20170101T000000
END:STANDARD
END:VTIMEZONE
BEGIN:VEVENT
DTSTART;TZID=UTC:20171206T080000
DTEND;TZID=UTC:20171206T170000
DTSTAMP:20260424T140836
CREATED:20170519T133622Z
LAST-MODIFIED:20170519T133622Z
UID:3722-1512547200-1512579600@sanfranciscocollege.com.ar
SUMMARY:Entrega de Boletines - fin de año
DESCRIPTION:
URL:https://sanfranciscocollege.com.ar/event/entrega-de-boletines-fin-de-ano/
CATEGORIES:General
END:VEVENT
END:VCALENDAR