BEGIN:VCALENDAR
VERSION:2.0
PRODID:-//SAN FRANCISCO COLLEGE - ECPv4.9.12//NONSGML v1.0//EN
CALSCALE:GREGORIAN
METHOD:PUBLISH
X-WR-CALNAME:SAN FRANCISCO COLLEGE
X-ORIGINAL-URL:https://sanfranciscocollege.com.ar
X-WR-CALDESC:Eventos para SAN FRANCISCO COLLEGE
BEGIN:VTIMEZONE
TZID:UTC
BEGIN:STANDARD
TZOFFSETFROM:+0000
TZOFFSETTO:+0000
TZNAME:UTC
DTSTART:20180101T000000
END:STANDARD
END:VTIMEZONE
BEGIN:VEVENT
DTSTART;VALUE=DATE:20180528
DTEND;VALUE=DATE:20180529
DTSTAMP:20260424T105517
CREATED:20180528T202944Z
LAST-MODIFIED:20180528T202944Z
UID:3943-1527465600-1527551999@sanfranciscocollege.com.ar
SUMMARY:Comienzo de semana
DESCRIPTION:
URL:https://sanfranciscocollege.com.ar/event/comienzo-de-semana/
CATEGORIES:General
END:VEVENT
END:VCALENDAR